BEGIN:VCALENDAR
PRODID:-//Century 21 Stevens Realty Calendar
VERSION:2.0
METHOD:PUBLISH
BEGIN:VEVENT
URL:https://mangakino.century21.co.nz/property/residential/buy/nz/34/whakamaru/476586
ORGANIZER:mangakino@century21.co.nz
DTSTART:20191221T130000
DTEND:20191221T133000
LOCATION:34 Pokuru Road North,  Whakamaru
DTSTAMP:20191220T091009
SUMMARY:Century 21 Stevens Realty Open House - 34 Pokuru Road North,  Whakamaru
DESCRIPTION:Open House: 34 Pokuru Road North,  Whakamaru 
Saturday 01:00-01:30 PM
Click the link for full listing information:https://mangakino.century21.co.nz/property/residential/buy/nz/34/whakamaru/476586
CLASS:PUBLIC
BEGIN:VALARM
TRIGGER:-PT1D
ACTION:DISPLAY
DESCRIPTION:Reminder
END:VALARM
END:VEVENT
END:VCALENDAR